BEGIN:VCALENDAR
VERSION:2.0
PRODID:-//Združenje mestnih občin Slovenije - ECPv6.15.20//NONSGML v1.0//EN
CALSCALE:GREGORIAN
METHOD:PUBLISH
X-WR-CALNAME:Združenje mestnih občin Slovenije
X-ORIGINAL-URL:https://zmos.si
X-WR-CALDESC:Dogodki za Združenje mestnih občin Slovenije
REFRESH-INTERVAL;VALUE=DURATION:PT1H
X-Robots-Tag:noindex
X-PUBLISHED-TTL:PT1H
BEGIN:VTIMEZONE
TZID:Europe/Ljubljana
BEGIN:DAYLIGHT
TZOFFSETFROM:+0100
TZOFFSETTO:+0200
TZNAME:CEST
DTSTART:20250330T010000
END:DAYLIGHT
BEGIN:STANDARD
TZOFFSETFROM:+0200
TZOFFSETTO:+0100
TZNAME:CET
DTSTART:20251026T010000
END:STANDARD
BEGIN:DAYLIGHT
TZOFFSETFROM:+0100
TZOFFSETTO:+0200
TZNAME:CEST
DTSTART:20260329T010000
END:DAYLIGHT
BEGIN:STANDARD
TZOFFSETFROM:+0200
TZOFFSETTO:+0100
TZNAME:CET
DTSTART:20261025T010000
END:STANDARD
BEGIN:DAYLIGHT
TZOFFSETFROM:+0100
TZOFFSETTO:+0200
TZNAME:CEST
DTSTART:20270328T010000
END:DAYLIGHT
BEGIN:STANDARD
TZOFFSETFROM:+0200
TZOFFSETTO:+0100
TZNAME:CET
DTSTART:20271031T010000
END:STANDARD
END:VTIMEZONE
BEGIN:VEVENT
DTSTART;TZID=Europe/Ljubljana:20260422T090000
DTEND;TZID=Europe/Ljubljana:20260422T110000
DTSTAMP:20260422T123609
CREATED:20260415T110610Z
LAST-MODIFIED:20260415T110734Z
UID:2668-1776848400-1776855600@zmos.si
SUMMARY:Trajnostni razvoj mestnih središč: od dreves do skupnosti (spletni dogodek)
DESCRIPTION:Združenje mestnih občin Slovenije (ZMOS) v sodelovanju z Združenjem zgodovinskih mest Slovenije (ZZMS)\, Inštitutom za politike prostora (IPoP) in Mestno občino Velenje (MOV) vabi na spletno srečanje mestnih občin na temo mestnih središč z naslednjim okvirnim dnevnim redom: \n\n\n\n9.00\nMesto\, moj dom – predstavitev pobude/kampanje ZZMS\nMateja Hafner Dolenc\, generalna sekretarka ZZMS\n\n\n9.30\nPriprava smernic za načrtovanje in upravljanje dreves v urbanem okolju\nMaja Simoneti\, vodja projektov\, IPoP\n\n\n10.00\nPrenova mestnega središča Velenja – Cankarjeva ulica (CTN)\nSabina Vranc\, mestni marketing\, Mestna občina Velenje\n\n\n10.30\nRazprava o mestnih središčih in zaključek\n \n\n\n\nZaželene so predhodne prijave preko te spletne strani ZMOS. \nOkvir dogodka: \nZMOS podpira prizadevanja mestnih občin za proaktiven in trajnostni razvoj mestnih središč\, ki se pogosto soočajo z izzivi kot so upad obiskovanja s strani prebivalcev\, prazni poslovni prostori\, degradirana območja in pomanjkanje zelenja. Na spletnem dogodku bomo naslovili te vidike. Predstavljena bo kampanja »Mesto\, moj dom«\, ki želi okrepiti aktivno vlogo prebivalcev pri soustvarjanju privlačnih mest\, čemur bo sledila predstavitev aktivnosti za pripravo smernic za načrtovanje in upravljanje dreves v urbanem okolju. Zaključili bomo s konkretnim primerom\, ki združuje tako sodelovanje s prebivalci in ponudniki kot tudi ozelenitev mestnega središča\, in sicer CTN projektom MOV za prenovo Cankarjeve ulice. Po predstavitvah bo še priložnost za razpravo\, izmenjavo informacij in podajo predlogov o prihodnjih aktivnostih ZMOS na temo revitalizacije mestnih središč. \nK udeležbi so vabljeni vsi zainteresirani\, predvsem pa Odbor za management mestnih središč\, Odbor za urejanje prostora in varstvo okolja in pa zaposleni na mestnih upravah ter javnih podjetjih\, ki se ukvarjajo z mestnim drevesnim fondom. \n 
URL:https://zmos.si/dogodek/trajnostni-razvoj-mestnih-sredisc-od-dreves-do-skupnosti-spletni-dogodek/
LOCATION:po spletu
CATEGORIES:Posvet
ATTACH;FMTTYPE=image/jpeg:https://zmos.si/wp-content/uploads/2026/04/CE-center-zelenica.webp
ORGANIZER;CN="ZMOS":MAILTO:info@zmos.si
END:VEVENT
END:VCALENDAR