BEGIN:VCALENDAR
VERSION:2.0
PRODID:-//Združenje mestnih občin Slovenije - ECPv6.15.20//NONSGML v1.0//EN
CALSCALE:GREGORIAN
METHOD:PUBLISH
X-WR-CALNAME:Združenje mestnih občin Slovenije
X-ORIGINAL-URL:https://zmos.si
X-WR-CALDESC:Dogodki za Združenje mestnih občin Slovenije
REFRESH-INTERVAL;VALUE=DURATION:PT1H
X-Robots-Tag:noindex
X-PUBLISHED-TTL:PT1H
BEGIN:VTIMEZONE
TZID:Europe/Ljubljana
BEGIN:DAYLIGHT
TZOFFSETFROM:+0100
TZOFFSETTO:+0200
TZNAME:CEST
DTSTART:20240331T010000
END:DAYLIGHT
BEGIN:STANDARD
TZOFFSETFROM:+0200
TZOFFSETTO:+0100
TZNAME:CET
DTSTART:20241027T010000
END:STANDARD
BEGIN:DAYLIGHT
TZOFFSETFROM:+0100
TZOFFSETTO:+0200
TZNAME:CEST
DTSTART:20250330T010000
END:DAYLIGHT
BEGIN:STANDARD
TZOFFSETFROM:+0200
TZOFFSETTO:+0100
TZNAME:CET
DTSTART:20251026T010000
END:STANDARD
BEGIN:DAYLIGHT
TZOFFSETFROM:+0100
TZOFFSETTO:+0200
TZNAME:CEST
DTSTART:20260329T010000
END:DAYLIGHT
BEGIN:STANDARD
TZOFFSETFROM:+0200
TZOFFSETTO:+0100
TZNAME:CET
DTSTART:20261025T010000
END:STANDARD
END:VTIMEZONE
BEGIN:VEVENT
DTSTART;TZID=Europe/Ljubljana:20250318T110000
DTEND;TZID=Europe/Ljubljana:20250318T120000
DTSTAMP:20260423T062400
CREATED:20250314T074744Z
LAST-MODIFIED:20250314T074744Z
UID:1575-1742295600-1742299200@zmos.si
SUMMARY:Slavnostni podpis Zavezništva za razvoj med Gospodarsko zbornico Slovenije in združenji občin
DESCRIPTION:Gospodarska zbornica Slovenije\, Združenje občin Slovenije\, Skupnost občin Slovenije in Združenje mestnih občin Slovenije se zavedamo pomena tesnega sodelovanja med gospodarstvom in lokalnimi skupnostmi za dosego trajnostnega in skladnega urbanega ter regionalnega razvoja. \nZato želimo vzpostaviti dolgoročno partnerstvo\, ki bo temeljilo na skupnih prizadevanjih za krepitev gospodarske rasti\, izboljšanje kakovosti življenja prebivalcev in spodbujanje inovacij na lokalni in državni ravni. \n V torek\, 18. marca 2025\, ob 11. uri bo potekal slavnostni podpis Zavezništva za razvoj: Partnerstva gospodarstva in občin za trajnostno rast in blaginjo\, v prostorih GZS\, Dimičeva 13\, Ljubljana\, Poslovna oaza\, 7. nadstropje. \nZavezništvo za razvoj bodo podpisali: \n\nVesna Nahtigal\, generalna direktorica GZS\nRobert Smrdelj\, predsednik Združenja občin Slovenije\nGregor Macedoni\, predsednik Skupnosti občin Slovenije\nSamo Turel\, predsednik Združenja mestnih občin Slovenije\n\nPodpisniki bodo dali izjavo za medije. Ob priložnosti podpisa bo organiziran fototermin\, podpisniki pa bodo na voljo tudi za dodatne izjave in vaša vprašanja.
URL:https://zmos.si/dogodek/slavnostni-podpis-zaveznistva-za-razvoj-med-gospodarsko-zbornico-slovenije-in-zdruzenji-obcin/
LOCATION:GZS\, Dimičeva 13\, Ljubljana\, 1000\, Slovenia
CATEGORIES:drugo
ATTACH;FMTTYPE=image/jpeg:https://zmos.si/wp-content/uploads/2025/03/GZS-stavba.webp
ORGANIZER;CN="ZMOS":MAILTO:info@zmos.si
END:VEVENT
END:VCALENDAR