BEGIN:VCALENDAR
VERSION:2.0
PRODID:-//Združenje mestnih občin Slovenije - ECPv6.15.20//NONSGML v1.0//EN
CALSCALE:GREGORIAN
METHOD:PUBLISH
X-ORIGINAL-URL:https://zmos.si
X-WR-CALDESC:Dogodki za Združenje mestnih občin Slovenije
REFRESH-INTERVAL;VALUE=DURATION:PT1H
X-Robots-Tag:noindex
X-PUBLISHED-TTL:PT1H
BEGIN:VTIMEZONE
TZID:Europe/Ljubljana
BEGIN:DAYLIGHT
TZOFFSETFROM:+0100
TZOFFSETTO:+0200
TZNAME:CEST
DTSTART:20240331T010000
END:DAYLIGHT
BEGIN:STANDARD
TZOFFSETFROM:+0200
TZOFFSETTO:+0100
TZNAME:CET
DTSTART:20241027T010000
END:STANDARD
BEGIN:DAYLIGHT
TZOFFSETFROM:+0100
TZOFFSETTO:+0200
TZNAME:CEST
DTSTART:20250330T010000
END:DAYLIGHT
BEGIN:STANDARD
TZOFFSETFROM:+0200
TZOFFSETTO:+0100
TZNAME:CET
DTSTART:20251026T010000
END:STANDARD
BEGIN:DAYLIGHT
TZOFFSETFROM:+0100
TZOFFSETTO:+0200
TZNAME:CEST
DTSTART:20260329T010000
END:DAYLIGHT
BEGIN:STANDARD
TZOFFSETFROM:+0200
TZOFFSETTO:+0100
TZNAME:CET
DTSTART:20261025T010000
END:STANDARD
END:VTIMEZONE
BEGIN:VEVENT
DTSTART;TZID=Europe/Ljubljana:20251105T140000
DTEND;TZID=Europe/Ljubljana:20251107T140000
DTSTAMP:20260422T212003
CREATED:20251021T135244Z
LAST-MODIFIED:20251021T135244Z
UID:2225-1762351200-1762524000@zmos.si
SUMMARY:Eurocities Social Innovation Lab: Lokalne rešitve za otroke in mladino
DESCRIPTION:Mestna občina Ljubljana bo kot članica mreže evropskih mest Eurocities gostila peto izvedbo konference Eurocities Social Innovation Lab\, ki naslavlja lokalne rešitve za otroke in mlade. Dogodek bo potekal med 5. in 7. novembrom 2025 v Centru Rog. \nEvropska mesta vse bolj prevzemajo vodilno vlogo pri zagotavljanju\, da se vsak otrok lahko uspešno razvija\, kljub izzivom na področju duševnega zdravja\, socialnim razlikam in razlikam na področju izobraževanja ter nasilju nad otroki. Dogodek bo mestom služil kot prostor za izmenjavo najboljših praks in inovativnih odgovorov na urbane izzive\, s katerimi se soočajo otroci po vsej Evropi. \nKonferenca bo prek številnih delavnic\, obiskov na terenu ter okrogle mize naslovila tri ključne teme: \n\nzmanjševanje revščine in socialne izključenosti med otroki\,\npreprečevanje nasilja nad otroki in krepitev integriranih sistemov za zaščito otrok\,\nzdravje in dobrobit otrok ter zagotavljanje enakih priložnosti in dostopa do storitev za otroke s posebnimi potrebami.\n\nV okviru programa bo Mestna občina Ljubljana izpostavila številne dobre prakse\, pa tudi izzive s katerimi se soočamo na teh področjih. Na konferenci bodo s prispevki na zgoraj omenjene teme sodelovali tudi predstavniki drugih evropskih mest in organizacij. Osnutek programa je v prilogi. \nVabimo vas\, da se pridružite predstavnikom evropskih mest in Ljubljane\, na dogodku\, ki bo nudil obilo priložnosti za aktivno sodelovanje. Na konferenco se prijavite na povezavi:  \nhttps://eurocities.idloom.events/Social_Innovation_Lab_2025.  \nPrijave so odprte do 27. oktobra 2025.  
URL:https://zmos.si/dogodek/eurocities-social-innovation-lab-lokalne-resitve-za-otroke-in-mladino/
LOCATION:Center Rog\, Trubarjeva cesta 72\, Ljubljana\, 1000\, Slovenia
CATEGORIES:drugo
ATTACH;FMTTYPE=image/jpeg:https://zmos.si/wp-content/uploads/2025/03/Center-Rog-LJ.webp
END:VEVENT
END:VCALENDAR