BEGIN:VCALENDAR
VERSION:2.0
PRODID:-//Združenje mestnih občin Slovenije - ECPv6.15.20//NONSGML v1.0//EN
CALSCALE:GREGORIAN
METHOD:PUBLISH
X-WR-CALNAME:Združenje mestnih občin Slovenije
X-ORIGINAL-URL:https://zmos.si
X-WR-CALDESC:Dogodki za Združenje mestnih občin Slovenije
REFRESH-INTERVAL;VALUE=DURATION:PT1H
X-Robots-Tag:noindex
X-PUBLISHED-TTL:PT1H
BEGIN:VTIMEZONE
TZID:Europe/Ljubljana
BEGIN:DAYLIGHT
TZOFFSETFROM:+0100
TZOFFSETTO:+0200
TZNAME:CEST
DTSTART:20240331T010000
END:DAYLIGHT
BEGIN:STANDARD
TZOFFSETFROM:+0200
TZOFFSETTO:+0100
TZNAME:CET
DTSTART:20241027T010000
END:STANDARD
BEGIN:DAYLIGHT
TZOFFSETFROM:+0100
TZOFFSETTO:+0200
TZNAME:CEST
DTSTART:20250330T010000
END:DAYLIGHT
BEGIN:STANDARD
TZOFFSETFROM:+0200
TZOFFSETTO:+0100
TZNAME:CET
DTSTART:20251026T010000
END:STANDARD
BEGIN:DAYLIGHT
TZOFFSETFROM:+0100
TZOFFSETTO:+0200
TZNAME:CEST
DTSTART:20260329T010000
END:DAYLIGHT
BEGIN:STANDARD
TZOFFSETFROM:+0200
TZOFFSETTO:+0100
TZNAME:CET
DTSTART:20261025T010000
END:STANDARD
END:VTIMEZONE
BEGIN:VEVENT
DTSTART;TZID=Europe/Ljubljana:20251023T100000
DTEND;TZID=Europe/Ljubljana:20251023T120000
DTSTAMP:20260424T023031
CREATED:20251014T131323Z
LAST-MODIFIED:20251014T131323Z
UID:2206-1761213600-1761220800@zmos.si
SUMMARY:Preprosto ZDIJZ
DESCRIPTION:Ministrstvo za javno upravo vabi občine na brezplačno spletno usposabljanje glede vodenja postopkov po ZDIJZ\, s poudarkom na zaprosilih za pravna mnenja\, ki jih organi lokalnih skupnosti naslavljajo na Ministrstvo za javno upravo in se nanašajo na zahtevke strank v zvezi s postopki oziroma dokumentacijo v zvezi z:\n– javnimi naročili\n– zaposlovanjem\n– plačami in nagrajevanjem zaposlenih\n– odločitvami inšpekcijskih in drugih nadzornih organov\n– zahtevami občinskih svetnikov ipd. \nPoleg tega bodo na usposabljanju predstavili tudi:\n– kaj pomeni biti zavezanec za IJZ\, pooblastila\, naloge\n– kdaj se sklicujemo na izjemo poslovne skrivnosti\n– kako kriterij javnih sredstev vpliva na dostop do IJZ\n– zahteve šikanozne narave in kako ravnati v teh primerih\n– pravila testa javnega interesa in kdaj se uporabi \nUsposabljanje bo potekalo na daljavo preko aplikacije MS Teams (MST)\, v četrtek\, 23. oktobra 2025\, s pričetkom ob 10.00 uri. \nPrijave na tej povezavi. Rok za prijave je torek\, 21. 10. 2025.\nUdeleženci bodo v sredo\, 22. oktobra 2025 prejeli povezavo do usposabljanja.
URL:https://zmos.si/dogodek/preprosto-zdijz/
LOCATION:po spletu
CATEGORIES:Izobraževanje
ATTACH;FMTTYPE=image/jpeg:https://zmos.si/wp-content/uploads/2025/03/a-wooden-gavel-and-legal-book-represent-justice-in-a-court-setting-emphasizing-order-and-legal-authority.-8693379-scaled.jpg
END:VEVENT
END:VCALENDAR